5.00000000000000
0.00000000000000
0.00000000000000
-5.00000000000000
446032.50000000000000
4379712.50000000000000
