5.00000000000000
0.00000000000000
0.00000000000000
-5.00000000000000
446067.50000000000000
4386647.50000000000000
