5.00000000000000
0.00000000000000
0.00000000000000
-5.00000000000000
435057.50000000000000
4352032.50000000000000
