5.00000000000000
0.00000000000000
0.00000000000000
-5.00000000000000
440452.50000000000000
4352007.50000000000000
