5.00000000000000
0.00000000000000
0.00000000000000
-5.00000000000000
435087.50000000000000
4358967.50000000000000
