5.00000000000000
0.00000000000000
0.00000000000000
-5.00000000000000
440482.50000000000000
4358942.50000000000000
