5.00000000000000
0.00000000000000
0.00000000000000
-5.00000000000000
429787.50000000000000
4365962.50000000000000
