5.00000000000000
0.00000000000000
0.00000000000000
-5.00000000000000
429822.50000000000000
4372897.50000000000000
