5.00000000000000
0.00000000000000
0.00000000000000
-5.00000000000000
488872.50000000000000
4296312.50000000000000
