5.00000000000000
0.00000000000000
0.00000000000000
-5.00000000000000
434712.50000000000000
4310417.50000000000000
