5.00000000000000
0.00000000000000
0.00000000000000
-5.00000000000000
440137.50000000000000
4310392.50000000000000
