5.00000000000000
0.00000000000000
0.00000000000000
-5.00000000000000
434747.50000000000000
4317352.50000000000000
