5.00000000000000
0.00000000000000
0.00000000000000
-5.00000000000000
440167.50000000000000
4317327.50000000000000
