5.00000000000000
0.00000000000000
0.00000000000000
-5.00000000000000
456632.50000000000000
4351912.50000000000000
