5.00000000000000
0.00000000000000
0.00000000000000
-5.00000000000000
462022.50000000000000
4351887.50000000000000
