5.00000000000000
0.00000000000000
0.00000000000000
-5.00000000000000
456662.50000000000000
4358847.50000000000000
