5.00000000000000
0.00000000000000
0.00000000000000
-5.00000000000000
488837.50000000000000
4268572.50000000000000
