5.00000000000000
0.00000000000000
0.00000000000000
-5.00000000000000
494277.50000000000000
4268547.50000000000000
