5.00000000000000
0.00000000000000
0.00000000000000
-5.00000000000000
488867.50000000000000
4275507.50000000000000
