5.00000000000000
0.00000000000000
0.00000000000000
-5.00000000000000
494357.50000000000000
4275432.50000000000000
