5.00000000000000
0.00000000000000
0.00000000000000
-5.00000000000000
467297.50000000000000
4324117.50000000000000
