5.00000000000000
0.00000000000000
0.00000000000000
-5.00000000000000
488852.50000000000000
4261637.50000000000000
