5.00000000000000
0.00000000000000
0.00000000000000
-5.00000000000000
494352.50000000000000
4261557.50000000000000
